BEGIN:VCALENDAR
VERSION:2.0
PRODID:-//The Inn on Loch Lomond - ECPv6.2.9//NONSGML v1.0//EN
CALSCALE:GREGORIAN
METHOD:PUBLISH
X-WR-CALNAME:The Inn on Loch Lomond
X-ORIGINAL-URL:https://www.innonlochlomond.co.uk
X-WR-CALDESC:Events for The Inn on Loch Lomond
REFRESH-INTERVAL;VALUE=DURATION:PT1H
X-Robots-Tag:noindex
X-PUBLISHED-TTL:PT1H
BEGIN:VTIMEZONE
TZID:Europe/London
BEGIN:DAYLIGHT
TZOFFSETFROM:+0000
TZOFFSETTO:+0100
TZNAME:BST
DTSTART:20250330T010000
END:DAYLIGHT
BEGIN:STANDARD
TZOFFSETFROM:+0100
TZOFFSETTO:+0000
TZNAME:GMT
DTSTART:20251026T010000
END:STANDARD
BEGIN:DAYLIGHT
TZOFFSETFROM:+0000
TZOFFSETTO:+0100
TZNAME:BST
DTSTART:20260329T010000
END:DAYLIGHT
BEGIN:STANDARD
TZOFFSETFROM:+0100
TZOFFSETTO:+0000
TZNAME:GMT
DTSTART:20261025T010000
END:STANDARD
END:VTIMEZONE
BEGIN:VEVENT
DTSTART;TZID=Europe/London:20251220T190000
DTEND;TZID=Europe/London:20251220T220000
DTSTAMP:20260421T135727
CREATED:20251018T104419Z
LAST-MODIFIED:20251018T104422Z
UID:13326-1766257200-1766268000@www.innonlochlomond.co.uk
SUMMARY:Emma Jane plays at the Inn
DESCRIPTION:Emma Jane plays a solo event at The Inn on Loch Lomond for it’s renowned Live Music Season which continues every Friday and Saturday throughout 2025. \n\n\n\nEmma Jane’s unique blend of country\, soul\, and blues along with her distinctive vocals have won her awards both locally and nationally for her song-writing talents and incredible voice. \n\n\n\nEnjoy our excellent line-up of artist entertainment\, real ales from the bar\, extensive list of whiskies and great fish and chips from The Inn Bar & Restaurant – the perfect way to spend an evening!
URL:https://www.innonlochlomond.co.uk/event/emma-jane-plays-at-the-inn-20th-december-2025/
LOCATION:The Inn on Loch Lomond\, Loch Lomond\, Inverbeg\, Argyll & Bute\, G838PD\, United Kingdom
CATEGORIES:2025 Events
ATTACH;FMTTYPE=image/jpeg:https://www.innonlochlomond.co.uk/wp-content/uploads/2023/08/emma-jane-purple.jpg
ORGANIZER;CN="The Inn on Loch Lomond":MAILTO:res@innonlochlomond.co.uk
END:VEVENT
BEGIN:VEVENT
DTSTART;TZID=Europe/London:20251226T190000
DTEND;TZID=Europe/London:20251226T220000
DTSTAMP:20260421T135727
CREATED:20251018T104518Z
LAST-MODIFIED:20251018T104520Z
UID:13328-1766775600-1766786400@www.innonlochlomond.co.uk
SUMMARY:Katie Wills plays at the Inn
DESCRIPTION:A new artist for The Inn on Loch Lomond – Katie Wills is a Glasgow based solo vocalist\, pianist\, songwriter and professional musician. \n\n\n\nKatie combines soulful\, but powerful vocials with lush\, dynamic piano playing who can also switch it up for a more energetic and upbeat set. \n\n\n\nA human jukebox with a large and varied repertoire of songs from the 50’s to the present day. Katie will have you singing and up dancing before you know it at The Inn on Loch Lomond.
URL:https://www.innonlochlomond.co.uk/event/katie-wills-plays-at-the-inn-26th-december-2025/
LOCATION:The Inn on Loch Lomond\, Loch Lomond\, Inverbeg\, Argyll & Bute\, G838PD\, United Kingdom
CATEGORIES:2025 Events
ATTACH;FMTTYPE=image/png:https://www.innonlochlomond.co.uk/wp-content/uploads/2024/02/Katie-Wills-Profile-Photo.png
ORGANIZER;CN="The Inn on Loch Lomond":MAILTO:res@innonlochlomond.co.uk
END:VEVENT
BEGIN:VEVENT
DTSTART;TZID=Europe/London:20251227T190000
DTEND;TZID=Europe/London:20251227T220000
DTSTAMP:20260421T135727
CREATED:20251018T104745Z
LAST-MODIFIED:20251217T113249Z
UID:13382-1766862000-1766872800@www.innonlochlomond.co.uk
SUMMARY:Hollie Burns plays at the Inn
DESCRIPTION:Hollie Burns plays at the Inn\nHollie Burns plays at The Inn on Loch Lomond for it’s renowned Live Music Season which continues every Friday and Saturday throughout 2025.  \nHollie Burns is one of Scotland’s most popular Wedding / Event singers as seen on “X Factor”.  \nEnjoy our excellent line-up of artist entertainment\, real ales from the bar\, extensive list of whiskies and great fish and chips from The Inn Bar & Restaurant… the perfect way to spend an evening!
URL:https://www.innonlochlomond.co.uk/event/hollie-burns-plays-at-the-inn/
LOCATION:The Inn on Loch Lomond\, Loch Lomond\, Inverbeg\, Argyll & Bute\, G838PD\, United Kingdom
CATEGORIES:2025 Events,Folk Music Season
ATTACH;FMTTYPE=image/jpeg:https://www.innonlochlomond.co.uk/wp-content/uploads/2025/10/Hollie-Burns.jpg
ORGANIZER;CN="The Inn on Loch Lomond":MAILTO:res@innonlochlomond.co.uk
END:VEVENT
BEGIN:VEVENT
DTSTART;TZID=Europe/London:20251230T190000
DTEND;TZID=Europe/London:20251230T220000
DTSTAMP:20260421T135727
CREATED:20251018T104759Z
LAST-MODIFIED:20251018T104801Z
UID:13334-1767121200-1767132000@www.innonlochlomond.co.uk
SUMMARY:Derek Richardson plays at the Inn
DESCRIPTION:Derek Richardson plays at the Inn\nDerek Richardson (from On The Wagon) plays at The Inn on Loch Lomond for it’s renowned Live Music Season which continues every Friday and Saturday evening throughout 2025.  \nHe is a Vocalist/multi-instrumentalist folk\, country & contemporary artist. \nEnjoy our excellent line-up of artist entertainment\, real ales from the bar\, extensive list of whiskies and great fish and chips from The Inn Bar & Restaurant – the perfect way to spend an evening!
URL:https://www.innonlochlomond.co.uk/event/derek-richardson-plays-at-the-inn-30th-december-2025/
LOCATION:The Inn on Loch Lomond\, Loch Lomond\, Inverbeg\, Argyll & Bute\, G838PD\, United Kingdom
CATEGORIES:2025 Events
ATTACH;FMTTYPE=image/jpeg:https://www.innonlochlomond.co.uk/wp-content/uploads/2023/06/Derek-richardson.jpg
ORGANIZER;CN="The Inn on Loch Lomond":MAILTO:res@innonlochlomond.co.uk
END:VEVENT
BEGIN:VEVENT
DTSTART;TZID=Europe/London:20251231T190000
DTEND;TZID=Europe/London:20260101T000000
DTSTAMP:20260421T135727
CREATED:20251018T105114Z
LAST-MODIFIED:20251230T113617Z
UID:13336-1767207600-1767225600@www.innonlochlomond.co.uk
SUMMARY:The Clooneys plays at the Inn for Hogmanay
DESCRIPTION:Hogmanay Hootenanny\n\n\n\nWe will be saying adieu to 2025 and a big hello to 2026 with live entertainment by The Clooneys. Afterwards the band will up the tempo to see in 2026 and toast the bells with champagne and wee Scottish treats… \n\n\n\nThe Clooneys are known for their unique vocal arrangements\, intricate harmonies\, and their ability to really get the party started. \n\n\n\nGary\, Sian\, Nicola met on the function band circuit\, and were inspired by their mutual love of quality vocals and rich harmonies to found The Clooneys. \n\n\n\nGlasgow based and offering a wide range of entertainment for The Inn’s Hogmanay party – We are delighted to bring their unique blend of vocals to The Inn. \n\n\n\nLearn more about our Hogmanay dinner offer here https://www.innonlochlomond.co.uk/offers/hogmanay-dinner-2025/
URL:https://www.innonlochlomond.co.uk/event/the-cloonays-plays-at-the-inn-for-hogmanay-31st-december-2025/
LOCATION:The Inn on Loch Lomond\, Loch Lomond\, Inverbeg\, Argyll & Bute\, G838PD\, United Kingdom
CATEGORIES:2025 Events,Hogmanay,Hogmanay Entertainment
ATTACH;FMTTYPE=image/jpeg:https://www.innonlochlomond.co.uk/wp-content/uploads/2025/10/The-Clooneys-The-Inn-on-Loch-Lomond-Hogmanay-2025.jpg
ORGANIZER;CN="The Inn on Loch Lomond":MAILTO:res@innonlochlomond.co.uk
END:VEVENT
END:VCALENDAR