BEGIN:VCALENDAR
VERSION:2.0
PRODID:-//The Inn on Loch Lomond - ECPv6.2.9//NONSGML v1.0//EN
CALSCALE:GREGORIAN
METHOD:PUBLISH
X-WR-CALNAME:The Inn on Loch Lomond
X-ORIGINAL-URL:https://www.innonlochlomond.co.uk
X-WR-CALDESC:Events for The Inn on Loch Lomond
REFRESH-INTERVAL;VALUE=DURATION:PT1H
X-Robots-Tag:noindex
X-PUBLISHED-TTL:PT1H
BEGIN:VTIMEZONE
TZID:Europe/London
BEGIN:DAYLIGHT
TZOFFSETFROM:+0000
TZOFFSETTO:+0100
TZNAME:BST
DTSTART:20250330T010000
END:DAYLIGHT
BEGIN:STANDARD
TZOFFSETFROM:+0100
TZOFFSETTO:+0000
TZNAME:GMT
DTSTART:20251026T010000
END:STANDARD
END:VTIMEZONE
BEGIN:VEVENT
DTSTART;TZID=Europe/London:20250104T190000
DTEND;TZID=Europe/London:20250104T220000
DTSTAMP:20260422T161241
CREATED:20241231T170855Z
LAST-MODIFIED:20250104T171652Z
UID:12929-1736017200-1736028000@www.innonlochlomond.co.uk
SUMMARY:Derek Richardson plays at the Inn
DESCRIPTION:Derek Richardson plays at the Inn\nDerek Richardson (from On The Wagon) plays at The Inn on Loch Lomond for it’s renowned Folk Music Season which continues every Friday and Saturday evening. \nHe is a Vocalist/multi-instrumentalist folk\, country & contemporary artist. \nEnjoy our excellent line-up of artist entertainment\, real ales from the bar\, extensive list of whiskies and great fish and chips from The Inn Bar & Restaurant – the perfect way to spend an evening!
URL:https://www.innonlochlomond.co.uk/event/derek-richardson-plays-at-the-inn-4th-january-2025/
LOCATION:The Inn on Loch Lomond\, Loch Lomond\, Inverbeg\, Argyll & Bute\, G838PD\, United Kingdom
CATEGORIES:2025 Events,Folk Music Season
ATTACH;FMTTYPE=image/jpeg:https://www.innonlochlomond.co.uk/wp-content/uploads/2023/06/Derek-richardson.jpg
ORGANIZER;CN="The Inn on Loch Lomond":MAILTO:res@innonlochlomond.co.uk
END:VEVENT
BEGIN:VEVENT
DTSTART;TZID=Europe/London:20250110T190000
DTEND;TZID=Europe/London:20250110T220000
DTSTAMP:20260422T161241
CREATED:20241230T152622Z
LAST-MODIFIED:20250110T152943Z
UID:12933-1736535600-1736546400@www.innonlochlomond.co.uk
SUMMARY:Robert Carmichael plays at the Inn
DESCRIPTION:Robert Carmichael plays at the Inn\nRobert Carmichael plays at The Inn on Loch Lomond for it’s renowned Folk Music Season which continues every Friday and Saturday from January 2025 till April 2025. \nWith many years’ experience in the business\, Robert Carmichael’s Solo Acoustic Evening features an eclectic mix of music with something for everyone! \nEnjoy our excellent line-up of artist entertainment\, real ales from the bar\, extensive list of whiskies and great fish and chips from The Inn Bar & Restaurant… the perfect way to spend an evening!
URL:https://www.innonlochlomond.co.uk/event/robert-carmichael-plays-at-the-inn-10th-january-2025/
LOCATION:The Inn on Loch Lomond\, Loch Lomond\, Inverbeg\, Argyll & Bute\, G838PD\, United Kingdom
CATEGORIES:2025 Events,Folk Music Season
ATTACH;FMTTYPE=image/jpeg:https://www.innonlochlomond.co.uk/wp-content/uploads/2022/05/Robert-Carmichael-Square.jpg
ORGANIZER;CN="The Inn on Loch Lomond":MAILTO:res@innonlochlomond.co.uk
END:VEVENT
BEGIN:VEVENT
DTSTART;TZID=Europe/London:20250124T190000
DTEND;TZID=Europe/London:20250124T220000
DTSTAMP:20260422T161241
CREATED:20241226T131946Z
LAST-MODIFIED:20250124T152912Z
UID:12948-1737745200-1737756000@www.innonlochlomond.co.uk
SUMMARY:Derek Richardson plays at the Inn
DESCRIPTION:Quick Update  Due to current weather and Red Alert conditions Derek Richardson unfortunately will not be able to play at The Inn tonight. We apologies for any inconvenience caused. We hope to welcome you in calmer weather.\nDerek Richardson plays at the Inn\nDerek Richardson (from On The Wagon) plays at The Inn on Loch Lomond for it’s renowned Folk Music Season which continues every Friday and Saturday evening. \nHe is a Vocalist/multi-instrumentalist folk\, country & contemporary artist. \nEnjoy our excellent line-up of artist entertainment\, real ales from the bar\, extensive list of whiskies and great fish and chips from The Inn Bar & Restaurant – the perfect way to spend an evening!
URL:https://www.innonlochlomond.co.uk/event/derek-richardson-plays-at-the-inn-24th-january-2025/
LOCATION:The Inn on Loch Lomond\, Loch Lomond\, Inverbeg\, Argyll & Bute\, G838PD\, United Kingdom
CATEGORIES:2025 Events,Folk Music Season
ATTACH;FMTTYPE=image/jpeg:https://www.innonlochlomond.co.uk/wp-content/uploads/2023/06/Derek-richardson.jpg
ORGANIZER;CN="The Inn on Loch Lomond":MAILTO:res@innonlochlomond.co.uk
END:VEVENT
END:VCALENDAR